BEGIN:VCALENDAR
VERSION:2.0
PRODID:-//sisters network triangle - ECPv6.15.14//NONSGML v1.0//EN
CALSCALE:GREGORIAN
METHOD:PUBLISH
X-ORIGINAL-URL:https://sisterstriangle.org
X-WR-CALDESC:Events for sisters network triangle
REFRESH-INTERVAL;VALUE=DURATION:PT1H
X-Robots-Tag:noindex
X-PUBLISHED-TTL:PT1H
BEGIN:VTIMEZONE
TZID:America/New_York
BEGIN:DAYLIGHT
TZOFFSETFROM:-0500
TZOFFSETTO:-0400
TZNAME:EDT
DTSTART:20170312T070000
END:DAYLIGHT
BEGIN:STANDARD
TZOFFSETFROM:-0400
TZOFFSETTO:-0500
TZNAME:EST
DTSTART:20171105T060000
END:STANDARD
BEGIN:DAYLIGHT
TZOFFSETFROM:-0500
TZOFFSETTO:-0400
TZNAME:EDT
DTSTART:20180311T070000
END:DAYLIGHT
BEGIN:STANDARD
TZOFFSETFROM:-0400
TZOFFSETTO:-0500
TZNAME:EST
DTSTART:20181104T060000
END:STANDARD
BEGIN:DAYLIGHT
TZOFFSETFROM:-0500
TZOFFSETTO:-0400
TZNAME:EDT
DTSTART:20190310T070000
END:DAYLIGHT
BEGIN:STANDARD
TZOFFSETFROM:-0400
TZOFFSETTO:-0500
TZNAME:EST
DTSTART:20191103T060000
END:STANDARD
END:VTIMEZONE
BEGIN:VEVENT
DTSTART;TZID=America/New_York:20180927T180000
DTEND;TZID=America/New_York:20180927T200000
DTSTAMP:20260423T184137
CREATED:20180809T033405Z
LAST-MODIFIED:20180809T034905Z
UID:2957-1538071200-1538078400@sisterstriangle.org
SUMMARY:Sisters Network Triangle\, NC Meeting - Durham
DESCRIPTION:SNTNC holds twice monthly support group meetings the second and fourth Thursday of each month. \n2nd Thursday\, Raleigh\, NC: Chavis Community Center\, 505 Martin Luther King Jr. Blvd. Raleigh\, NC 27601 \n4th Thursday\, Durham\, NC: Kappas of Durham Foundation Community Center\, 3917 Fayetteville Road\, Durham\, NC 27707 \nThe support group meetings allow individuals battling the disease to communicate with breast cancer survivors and service providers.
URL:https://sisterstriangle.org/event/sisters-network-triangle-nc-meeting-durham-2/
LOCATION:Kappa House Community Center\, 3917 Fayetteville St\, Durham\, Durham\, NC\, 27713\, United States
CATEGORIES:Sisters Network Triangle
ATTACH;FMTTYPE=image/png:https://www.sisterstriangle.org/wp-content/uploads/2018/03/sistersLogo.png
END:VEVENT
END:VCALENDAR