BEGIN:VCALENDAR
VERSION:2.0
PRODID:-//sisters network triangle - ECPv6.15.14//NONSGML v1.0//EN
CALSCALE:GREGORIAN
METHOD:PUBLISH
X-ORIGINAL-URL:https://sisterstriangle.org
X-WR-CALDESC:Events for sisters network triangle
REFRESH-INTERVAL;VALUE=DURATION:PT1H
X-Robots-Tag:noindex
X-PUBLISHED-TTL:PT1H
BEGIN:VTIMEZONE
TZID:America/New_York
BEGIN:DAYLIGHT
TZOFFSETFROM:-0500
TZOFFSETTO:-0400
TZNAME:EDT
DTSTART:20180311T070000
END:DAYLIGHT
BEGIN:STANDARD
TZOFFSETFROM:-0400
TZOFFSETTO:-0500
TZNAME:EST
DTSTART:20181104T060000
END:STANDARD
BEGIN:DAYLIGHT
TZOFFSETFROM:-0500
TZOFFSETTO:-0400
TZNAME:EDT
DTSTART:20190310T070000
END:DAYLIGHT
BEGIN:STANDARD
TZOFFSETFROM:-0400
TZOFFSETTO:-0500
TZNAME:EST
DTSTART:20191103T060000
END:STANDARD
BEGIN:DAYLIGHT
TZOFFSETFROM:-0500
TZOFFSETTO:-0400
TZNAME:EDT
DTSTART:20200308T070000
END:DAYLIGHT
BEGIN:STANDARD
TZOFFSETFROM:-0400
TZOFFSETTO:-0500
TZNAME:EST
DTSTART:20201101T060000
END:STANDARD
END:VTIMEZONE
BEGIN:VEVENT
DTSTART;TZID=America/New_York:20190817T120000
DTEND;TZID=America/New_York:20190817T140000
DTSTAMP:20260417T164154
CREATED:20190522T040132Z
LAST-MODIFIED:20190606T214031Z
UID:3366-1566043200-1566050400@sisterstriangle.org
SUMMARY:Luau Cookout
DESCRIPTION:Games\, Food\, Prizes for the best Hawaiian Attire \nTickets are $10 per person\nDeadline to purchase tickets is August 1\, 2019 \nContact Erica Jones – ericajones30@hotmail.com | 919.824.5038
URL:https://sisterstriangle.org/event/luau-cookout/
LOCATION:Lake Crabtree Morrisville – Beach Shelter\, 1400 Aviation Pkwy\, Morrisville\, NC\, United States
CATEGORIES:Sisters Network Triangle
ATTACH;FMTTYPE=image/png:https://www.sisterstriangle.org/wp-content/uploads/2019/05/SNTNC_Aloha.png
END:VEVENT
END:VCALENDAR