BEGIN:VCALENDAR
VERSION:2.0
PRODID:-//sisters network triangle - ECPv6.15.14//NONSGML v1.0//EN
CALSCALE:GREGORIAN
METHOD:PUBLISH
X-ORIGINAL-URL:https://sisterstriangle.org
X-WR-CALDESC:Events for sisters network triangle
REFRESH-INTERVAL;VALUE=DURATION:PT1H
X-Robots-Tag:noindex
X-PUBLISHED-TTL:PT1H
BEGIN:VTIMEZONE
TZID:America/New_York
BEGIN:DAYLIGHT
TZOFFSETFROM:-0500
TZOFFSETTO:-0400
TZNAME:EDT
DTSTART:20180311T070000
END:DAYLIGHT
BEGIN:STANDARD
TZOFFSETFROM:-0400
TZOFFSETTO:-0500
TZNAME:EST
DTSTART:20181104T060000
END:STANDARD
BEGIN:DAYLIGHT
TZOFFSETFROM:-0500
TZOFFSETTO:-0400
TZNAME:EDT
DTSTART:20190310T070000
END:DAYLIGHT
BEGIN:STANDARD
TZOFFSETFROM:-0400
TZOFFSETTO:-0500
TZNAME:EST
DTSTART:20191103T060000
END:STANDARD
BEGIN:DAYLIGHT
TZOFFSETFROM:-0500
TZOFFSETTO:-0400
TZNAME:EDT
DTSTART:20200308T070000
END:DAYLIGHT
BEGIN:STANDARD
TZOFFSETFROM:-0400
TZOFFSETTO:-0500
TZNAME:EST
DTSTART:20201101T060000
END:STANDARD
END:VTIMEZONE
BEGIN:VEVENT
DTSTART;TZID=America/New_York:20190919T000000
DTEND;TZID=America/New_York:20190930T235900
DTSTAMP:20260417T143408
CREATED:20190921T132419Z
LAST-MODIFIED:20191001T165320Z
UID:3545-1568851200-1569887940@sisterstriangle.org
SUMMARY:Purchase Your Gift For Life Block Walk Tee Shirt
DESCRIPTION:Purchase your unique Gift for Life Block Walk Tee Shirt while supplies last. Tee shirts are $25.00
URL:https://sisterstriangle.org/event/purchase-your-gift-for-life-block-walk-tee-shirt/
LOCATION:Kappa House Community Center\, 3917 Fayetteville St\, Durham\, Durham\, NC\, 27713\, United States
CATEGORIES:Charity,Sisters Network Triangle
ATTACH;FMTTYPE=image/jpeg:https://www.sisterstriangle.org/wp-content/uploads/2019/09/Gift_for_Life_Block_Walk_Tee_Shirt.jpg
ORGANIZER;CN="Sisters Network Triangle NC":MAILTO:trianglenc@sistersnetworkinc.org
END:VEVENT
END:VCALENDAR