BEGIN:VCALENDAR
VERSION:2.0
PRODID:-//sisters network triangle - ECPv6.15.14//NONSGML v1.0//EN
CALSCALE:GREGORIAN
METHOD:PUBLISH
X-WR-CALNAME:sisters network triangle
X-ORIGINAL-URL:https://sisterstriangle.org
X-WR-CALDESC:Events for sisters network triangle
REFRESH-INTERVAL;VALUE=DURATION:PT1H
X-Robots-Tag:noindex
X-PUBLISHED-TTL:PT1H
BEGIN:VTIMEZONE
TZID:America/New_York
BEGIN:DAYLIGHT
TZOFFSETFROM:-0500
TZOFFSETTO:-0400
TZNAME:EDT
DTSTART:20180311T070000
END:DAYLIGHT
BEGIN:STANDARD
TZOFFSETFROM:-0400
TZOFFSETTO:-0500
TZNAME:EST
DTSTART:20181104T060000
END:STANDARD
BEGIN:DAYLIGHT
TZOFFSETFROM:-0500
TZOFFSETTO:-0400
TZNAME:EDT
DTSTART:20190310T070000
END:DAYLIGHT
BEGIN:STANDARD
TZOFFSETFROM:-0400
TZOFFSETTO:-0500
TZNAME:EST
DTSTART:20191103T060000
END:STANDARD
BEGIN:DAYLIGHT
TZOFFSETFROM:-0500
TZOFFSETTO:-0400
TZNAME:EDT
DTSTART:20200308T070000
END:DAYLIGHT
BEGIN:STANDARD
TZOFFSETFROM:-0400
TZOFFSETTO:-0500
TZNAME:EST
DTSTART:20201101T060000
END:STANDARD
END:VTIMEZONE
BEGIN:VEVENT
DTSTART;TZID=America/New_York:20191005T090000
DTEND;TZID=America/New_York:20191005T140000
DTSTAMP:20260417T174734
CREATED:20190310T214120Z
LAST-MODIFIED:20191001T145427Z
UID:3318-1570266000-1570284000@sisterstriangle.org
SUMMARY:Gift For Life Block Walk (Durham)
DESCRIPTION:Sisters Network Triangle NC (SNTNC)\, invites you to join us on October 5th for our Annual Gift for Life Block Walk in Durham\, NC. \nSNTNC is a support group for breast cancer survivors and supporters.  The Gift for Life Block Walk allows survivors to partner with volunteers and canvass door-to-door in an underserved community to distribute breast health education brochures and resource information.  The community has an opportunity to meet survivors\, hear their stories\, and experience their triumph over breast cancer.  Individuals are invited to the event site to enjoy refreshments and visit breast cancer and health related agencies and learn more about the resources and services available in their community.
URL:https://sisterstriangle.org/event/gift-for-life-block-walk-durham/
LOCATION:Global Scholars Academy – Gym\, 311 Dowd St\, Durham\, NC\, 27701\, United States
CATEGORIES:Charity,Sisters Network Triangle
ATTACH;FMTTYPE=image/jpeg:https://www.sisterstriangle.org/wp-content/uploads/2019/03/BlockWalklogo.jpg
ORGANIZER;CN="Sisters Network Triangle NC":MAILTO:trianglenc@sistersnetworkinc.org
END:VEVENT
END:VCALENDAR