BEGIN:VCALENDAR
VERSION:2.0
PRODID:-//sisters network triangle - ECPv6.15.14//NONSGML v1.0//EN
CALSCALE:GREGORIAN
METHOD:PUBLISH
X-ORIGINAL-URL:https://sisterstriangle.org
X-WR-CALDESC:Events for sisters network triangle
REFRESH-INTERVAL;VALUE=DURATION:PT1H
X-Robots-Tag:noindex
X-PUBLISHED-TTL:PT1H
BEGIN:VTIMEZONE
TZID:America/New_York
BEGIN:DAYLIGHT
TZOFFSETFROM:-0500
TZOFFSETTO:-0400
TZNAME:EDT
DTSTART:20180311T070000
END:DAYLIGHT
BEGIN:STANDARD
TZOFFSETFROM:-0400
TZOFFSETTO:-0500
TZNAME:EST
DTSTART:20181104T060000
END:STANDARD
BEGIN:DAYLIGHT
TZOFFSETFROM:-0500
TZOFFSETTO:-0400
TZNAME:EDT
DTSTART:20190310T070000
END:DAYLIGHT
BEGIN:STANDARD
TZOFFSETFROM:-0400
TZOFFSETTO:-0500
TZNAME:EST
DTSTART:20191103T060000
END:STANDARD
BEGIN:DAYLIGHT
TZOFFSETFROM:-0500
TZOFFSETTO:-0400
TZNAME:EDT
DTSTART:20200308T070000
END:DAYLIGHT
BEGIN:STANDARD
TZOFFSETFROM:-0400
TZOFFSETTO:-0500
TZNAME:EST
DTSTART:20201101T060000
END:STANDARD
END:VTIMEZONE
BEGIN:VEVENT
DTSTART;TZID=America/New_York:20191020T080000
DTEND;TZID=America/New_York:20191020T100000
DTSTAMP:20260417T140810
CREATED:20191008T013601Z
LAST-MODIFIED:20191008T013852Z
UID:3634-1571558400-1571565600@sisterstriangle.org
SUMMARY:Pink Sunday @ Community Baptist Church
DESCRIPTION:Community Baptist Church hosts Pink Sunday on Oct. 20 at 8am.  Attend to hear an uplifting message and  receive free breast health educational and promotional materials. \nPastor: Rev. Dr. Percy R. Chase
URL:https://sisterstriangle.org/event/pink-sunday-community-baptist-church/
LOCATION:Community Baptist Church\, 4821 Barbee Rd.\, Durham\, NC\, 27713\, United States
CATEGORIES:Sisters Network Triangle
ATTACH;FMTTYPE=image/png:https://www.sisterstriangle.org/wp-content/uploads/2018/09/Worship-In-Pink.png
ORGANIZER;CN="Portia Hedgepeth":MAILTO:pshedgepeth@aol.com
END:VEVENT
BEGIN:VEVENT
DTSTART;TZID=America/New_York:20191020T104500
DTEND;TZID=America/New_York:20191020T124500
DTSTAMP:20260417T140810
CREATED:20191010T030955Z
LAST-MODIFIED:20191010T031326Z
UID:3643-1571568300-1571575500@sisterstriangle.org
SUMMARY:Pink Sunday @ First Calvary Baptist Church
DESCRIPTION:First Calvary Baptist Church hosts Pink Sunday on Oct. 20 at 10:45am.  Attend to hear an uplifting message and  receive free breast health educational and promotional materials. \nPastor: Rev. Fredrick A. Davis
URL:https://sisterstriangle.org/event/pink-sunday-first-calvary-baptist-church/
LOCATION:First Calvary Baptist Church\, 1311 Morehead Ave.\, Durham\, NC\, 27707\, United States
CATEGORIES:Sisters Network Triangle
ATTACH;FMTTYPE=image/png:https://www.sisterstriangle.org/wp-content/uploads/2018/09/Worship-In-Pink.png
END:VEVENT
BEGIN:VEVENT
DTSTART;TZID=America/New_York:20191020T110000
DTEND;TZID=America/New_York:20191020T130000
DTSTAMP:20260417T140810
CREATED:20191001T005414Z
LAST-MODIFIED:20191001T011530Z
UID:3604-1571569200-1571576400@sisterstriangle.org
SUMMARY:Pink Sunday @ Greater New Hope Faith and Deliverance Church
DESCRIPTION:Greater New Hope Faith and Deliverance Church hosts Pink Sunday on Oct. 20 at 11am.  Attend to hear an uplifting message and  receive free breast health educational and promotional materials. \nPastor: Regina Stanley-King
URL:https://sisterstriangle.org/event/pink-sunday-greater-new-hope-faith-and-deliverance-church/
LOCATION:Greater New Hope Faith and Deliverance Church\, 1405 C Old Oxford Rd.\, Durham\, NC\, 27704\, United States
CATEGORIES:Sisters Network Triangle
ATTACH;FMTTYPE=image/jpeg:https://www.sisterstriangle.org/wp-content/uploads/2018/10/worshipinpink_website.jpg
END:VEVENT
BEGIN:VEVENT
DTSTART;TZID=America/New_York:20191020T120000
DTEND;TZID=America/New_York:20191020T150000
DTSTAMP:20260417T140810
CREATED:20190927T040448Z
LAST-MODIFIED:20191010T031154Z
UID:3593-1571572800-1571583600@sisterstriangle.org
SUMMARY:Elevation Baptist Church Fall Festival
DESCRIPTION:Elevation Baptist Church hosts Fall Festival on Oct. 20 starting 12pm.  Attend to receive free breast health educational and promotional materials. \nPastor: Rev. Dr. T. L. Carmichael
URL:https://sisterstriangle.org/event/elevation-baptist-church-fall-festival/
LOCATION:Elevation Baptist Church\, 5271 EBC Village Way\, Knightdale\, North Carolina\, 27545\, United States
CATEGORIES:Sisters Network Triangle
ATTACH;FMTTYPE=image/jpeg:https://www.sisterstriangle.org/wp-content/uploads/2018/10/Elevation_Baptist-1.jpg
END:VEVENT
END:VCALENDAR