BEGIN:VCALENDAR
VERSION:2.0
PRODID:-//sisters network triangle - ECPv6.15.14//NONSGML v1.0//EN
CALSCALE:GREGORIAN
METHOD:PUBLISH
X-ORIGINAL-URL:https://sisterstriangle.org
X-WR-CALDESC:Events for sisters network triangle
REFRESH-INTERVAL;VALUE=DURATION:PT1H
X-Robots-Tag:noindex
X-PUBLISHED-TTL:PT1H
BEGIN:VTIMEZONE
TZID:America/New_York
BEGIN:DAYLIGHT
TZOFFSETFROM:-0500
TZOFFSETTO:-0400
TZNAME:EDT
DTSTART:20240310T070000
END:DAYLIGHT
BEGIN:STANDARD
TZOFFSETFROM:-0400
TZOFFSETTO:-0500
TZNAME:EST
DTSTART:20241103T060000
END:STANDARD
BEGIN:DAYLIGHT
TZOFFSETFROM:-0500
TZOFFSETTO:-0400
TZNAME:EDT
DTSTART:20250309T070000
END:DAYLIGHT
BEGIN:STANDARD
TZOFFSETFROM:-0400
TZOFFSETTO:-0500
TZNAME:EST
DTSTART:20251102T060000
END:STANDARD
BEGIN:DAYLIGHT
TZOFFSETFROM:-0500
TZOFFSETTO:-0400
TZNAME:EDT
DTSTART:20260308T070000
END:DAYLIGHT
BEGIN:STANDARD
TZOFFSETFROM:-0400
TZOFFSETTO:-0500
TZNAME:EST
DTSTART:20261101T060000
END:STANDARD
END:VTIMEZONE
BEGIN:VEVENT
DTSTART;TZID=America/New_York:20250607T110000
DTEND;TZID=America/New_York:20250607T140000
DTSTAMP:20260416T143905
CREATED:20250319T011127Z
LAST-MODIFIED:20250402T040022Z
UID:5203-1749294000-1749304800@sisterstriangle.org
SUMMARY:Tea for Two Pink Ribbon Awareness Campaign - 20th Anniversary
DESCRIPTION:The 20th annual Sisters Network®️ Triangle NC “Tea for Two” Pink Ribbon Awareness Campaign is a community based educational outreach program that targets women through churches\, civic organizations and the professional community in and around the Triangle area. The goal of this event is to increase the number of women obtaining mammograms and provide general breast health information and resources.\n\nAttendees of this phenomenal event will indulge in sisterhood\, fellowship and fun along with a plated lunch accompanied by entertainment\, a survivor fashion show\, a silent auction\, raffle\, door prizes and more!\n\nEveryone will receive valuable breast cancer resources to share with women in their community. Through our efforts\, our goal is to reach an additional 10\,000 women by sharing breast health information.\n Eventbrite Registration – https://SNTNCTea4Two20.eventbrite.com
URL:https://sisterstriangle.org/event/sistersnetworktriangle-tea4two-2025/
LOCATION:Sheraton Imperial Hotel – Research Triangle Park\, 4700 EMPEROR BOULEVARD\, Durham\, NC\, 27703\, United States
CATEGORIES:Sisters Network Triangle
ATTACH;FMTTYPE=image/png:https://sisterstriangle.org/wp-content/uploads/2025/03/SNT_Tea2025.png
ORGANIZER;CN="Sisters Network Triangle NC":MAILTO:trianglenc@sistersnetworkinc.org
END:VEVENT
END:VCALENDAR