BEGIN:VCALENDAR
VERSION:2.0
PRODID:-//sisters network triangle - ECPv6.15.14//NONSGML v1.0//EN
CALSCALE:GREGORIAN
METHOD:PUBLISH
X-WR-CALNAME:sisters network triangle
X-ORIGINAL-URL:https://sisterstriangle.org
X-WR-CALDESC:Events for sisters network triangle
REFRESH-INTERVAL;VALUE=DURATION:PT1H
X-Robots-Tag:noindex
X-PUBLISHED-TTL:PT1H
BEGIN:VTIMEZONE
TZID:America/New_York
BEGIN:DAYLIGHT
TZOFFSETFROM:-0500
TZOFFSETTO:-0400
TZNAME:EDT
DTSTART:20170312T070000
END:DAYLIGHT
BEGIN:STANDARD
TZOFFSETFROM:-0400
TZOFFSETTO:-0500
TZNAME:EST
DTSTART:20171105T060000
END:STANDARD
BEGIN:DAYLIGHT
TZOFFSETFROM:-0500
TZOFFSETTO:-0400
TZNAME:EDT
DTSTART:20180311T070000
END:DAYLIGHT
BEGIN:STANDARD
TZOFFSETFROM:-0400
TZOFFSETTO:-0500
TZNAME:EST
DTSTART:20181104T060000
END:STANDARD
BEGIN:DAYLIGHT
TZOFFSETFROM:-0500
TZOFFSETTO:-0400
TZNAME:EDT
DTSTART:20190310T070000
END:DAYLIGHT
BEGIN:STANDARD
TZOFFSETFROM:-0400
TZOFFSETTO:-0500
TZNAME:EST
DTSTART:20191103T060000
END:STANDARD
END:VTIMEZONE
BEGIN:VEVENT
DTSTART;TZID=America/New_York:20180809T180000
DTEND;TZID=America/New_York:20180809T200000
DTSTAMP:20260423T183607
CREATED:20180809T032120Z
LAST-MODIFIED:20180809T032244Z
UID:2946-1533837600-1533844800@sisterstriangle.org
SUMMARY:Sisters Network Triangle\, NC Meeting - Raleigh
DESCRIPTION:SNTNC holds twice monthly support group meetings the second and fourth Thursday of each month. \n2nd Thursday\, Raleigh\, NC: Chavis Community Center\, 505 Martin Luther King Jr. Blvd. Raleigh\, NC 27601 \n4th Thursday\, Durham\, NC: Kappas of Durham Foundation Community Center\, 3917 Fayetteville Road\, Durham\, NC 27707 \nThe support group meetings allow individuals battling the disease to communicate with breast cancer survivors and service providers.
URL:https://sisterstriangle.org/event/sisters-network-triangle-nc-raleigh-meeting/
LOCATION:NC
CATEGORIES:Sisters Network Triangle
ATTACH;FMTTYPE=image/png:https://www.sisterstriangle.org/wp-content/uploads/2018/03/sistersLogo.png
ORGANIZER;CN="Sisters Network Triangle NC":MAILTO:trianglenc@sistersnetworkinc.org
END:VEVENT
BEGIN:VEVENT
DTSTART;TZID=America/New_York:20180818T120000
DTEND;TZID=America/New_York:20180818T160000
DTSTAMP:20260423T183607
CREATED:20180712T034026Z
LAST-MODIFIED:20180714T044053Z
UID:2894-1534593600-1534608000@sisterstriangle.org
SUMMARY:Summer Cookout
DESCRIPTION:Survivors\, supporters\, family and friends welcomed – $5 per person. \nDeadline to purchase tickets is August 4. Tickets can be purchased at the Sisters Network Meeting or by contacting Valarie Worthy\, Erica Jones or Carla Lewis. \nLake Crabtree has fishing\, sailboats\, kayaks\, paddleboats and volleyball at additional costs per person. Click here for additional information  http://www.wakegov.com/parks/lakecrabtree/Pages/recreation.aspx
URL:https://sisterstriangle.org/event/summer-cookout/
LOCATION:Lake Crabtree\, Morrisville – Dogwood Shelter\, 1400 Aviation Parkway\, Morrisville\, NC\, 27560\, United States
CATEGORIES:Sisters Network Triangle
ATTACH;FMTTYPE=application/pdf:https://www.sisterstriangle.org/wp-content/uploads/2018/07/Revised-Cookout-Flyer.pdf
END:VEVENT
BEGIN:VEVENT
DTSTART;TZID=America/New_York:20180823T180000
DTEND;TZID=America/New_York:20180823T200000
DTSTAMP:20260423T183607
CREATED:20180809T033712Z
LAST-MODIFIED:20180809T035044Z
UID:2959-1535047200-1535054400@sisterstriangle.org
SUMMARY:Sisters Network Triangle\, NC Meeting - Durham
DESCRIPTION:SNTNC holds twice monthly support group meetings the second and fourth Thursday of each month. \n2nd Thursday\, Raleigh\, NC: Chavis Community Center\, 505 Martin Luther King Jr. Blvd. Raleigh\, NC 27601 \n4th Thursday\, Durham\, NC: Kappas of Durham Foundation Community Center\, 3917 Fayetteville Road\, Durham\, NC 27707 \nThe support group meetings allow individuals battling the disease to communicate with breast cancer survivors and service providers.
URL:https://sisterstriangle.org/event/sisters-network-triangle-nc-durham/
LOCATION:Kappa House Community Center\, 3917 Fayetteville St\, Durham\, Durham\, NC\, 27713\, United States
CATEGORIES:Sisters Network Triangle
ATTACH;FMTTYPE=image/png:https://www.sisterstriangle.org/wp-content/uploads/2018/03/sistersLogo.png
END:VEVENT
END:VCALENDAR