BEGIN:VCALENDAR
VERSION:2.0
PRODID:-//sisters network triangle - ECPv6.15.14//NONSGML v1.0//EN
CALSCALE:GREGORIAN
METHOD:PUBLISH
X-WR-CALNAME:sisters network triangle
X-ORIGINAL-URL:https://sisterstriangle.org
X-WR-CALDESC:Events for sisters network triangle
REFRESH-INTERVAL;VALUE=DURATION:PT1H
X-Robots-Tag:noindex
X-PUBLISHED-TTL:PT1H
BEGIN:VTIMEZONE
TZID:America/New_York
BEGIN:DAYLIGHT
TZOFFSETFROM:-0500
TZOFFSETTO:-0400
TZNAME:EDT
DTSTART:20180311T070000
END:DAYLIGHT
BEGIN:STANDARD
TZOFFSETFROM:-0400
TZOFFSETTO:-0500
TZNAME:EST
DTSTART:20181104T060000
END:STANDARD
BEGIN:DAYLIGHT
TZOFFSETFROM:-0500
TZOFFSETTO:-0400
TZNAME:EDT
DTSTART:20190310T070000
END:DAYLIGHT
BEGIN:STANDARD
TZOFFSETFROM:-0400
TZOFFSETTO:-0500
TZNAME:EST
DTSTART:20191103T060000
END:STANDARD
BEGIN:DAYLIGHT
TZOFFSETFROM:-0500
TZOFFSETTO:-0400
TZNAME:EDT
DTSTART:20200308T070000
END:DAYLIGHT
BEGIN:STANDARD
TZOFFSETFROM:-0400
TZOFFSETTO:-0500
TZNAME:EST
DTSTART:20201101T060000
END:STANDARD
END:VTIMEZONE
BEGIN:VEVENT
DTSTART;TZID=America/New_York:20190613T180000
DTEND;TZID=America/New_York:20190613T200000
DTSTAMP:20260418T024410
CREATED:20190306T044137Z
LAST-MODIFIED:20190309T184343Z
UID:3303-1560448800-1560456000@sisterstriangle.org
SUMMARY:Sisters Network Triangle\, NC Meeting - Raleigh
DESCRIPTION:SNTNC holds twice monthly support group meetings the second and fourth Thursday of each month. \n2nd Thursday\, Raleigh\, NC: Chavis Community Center\, 505 Martin Luther King Jr. Blvd. Raleigh\, NC 27601 \n4th Thursday\, Durham\, NC: Kappas of Durham Foundation Community Center\, 3917 Fayetteville Road\, Durham\, NC 27707 \nThe support group meetings allow individuals battling the disease to communicate with breast cancer survivors and service providers.
URL:https://sisterstriangle.org/event/sisters-network-triangle-nc-meeting-raleigh-9/
LOCATION:Chavis Community Center\, 505 Martin Luther King Jr Blvd\, Raleigh\, NC\, 27601\, United States
CATEGORIES:Sisters Network Triangle
ATTACH;FMTTYPE=image/png:https://www.sisterstriangle.org/wp-content/uploads/2018/03/sistersLogo.png
ORGANIZER;CN="Sisters Network Triangle NC":MAILTO:trianglenc@sistersnetworkinc.org
END:VEVENT
BEGIN:VEVENT
DTSTART;TZID=America/New_York:20190627T180000
DTEND;TZID=America/New_York:20190627T200000
DTSTAMP:20260418T024410
CREATED:20190306T044319Z
LAST-MODIFIED:20190309T184244Z
UID:3305-1561658400-1561665600@sisterstriangle.org
SUMMARY:Sisters Network Triangle\, NC Meeting - Durham
DESCRIPTION:SNTNC holds twice monthly support group meetings the second and fourth Thursday of each month. \n2nd Thursday\, Raleigh\, NC: Chavis Community Center\, 505 Martin Luther King Jr. Blvd. Raleigh\, NC 27601 \n4th Thursday\, Durham\, NC: Kappas of Durham Foundation Community Center\, 3917 Fayetteville Road\, Durham\, NC 27707 \nThe support group meetings allow individuals battling the disease to communicate with breast cancer survivors and service providers.
URL:https://sisterstriangle.org/event/sisters-network-triangle-nc-meeting-durham-7/
LOCATION:Kappa House Community Center\, 3917 Fayetteville St\, Durham\, Durham\, NC\, 27713\, United States
CATEGORIES:Sisters Network Triangle
ATTACH;FMTTYPE=image/png:https://www.sisterstriangle.org/wp-content/uploads/2018/03/sistersLogo.png
ORGANIZER;CN="Sisters Network Triangle NC":MAILTO:trianglenc@sistersnetworkinc.org
END:VEVENT
BEGIN:VEVENT
DTSTART;TZID=America/New_York:20190629T090000
DTEND;TZID=America/New_York:20190629T140000
DTSTAMP:20260418T024410
CREATED:20190403T022615Z
LAST-MODIFIED:20190403T023453Z
UID:3335-1561798800-1561816800@sisterstriangle.org
SUMMARY:Gift for Life Block Walk (Raleigh)
DESCRIPTION:Sisters Network Triangle NC (SNTNC)\, invites you to join us on June 29 for our 1st Annual Gift for Life Block Walk in Raleigh\, NC. \nSNTNC is a support group for breast cancer survivors and supporters.  The Gift for Life Block Walk allows survivors to partner with volunteers and canvass door-to-door in an underserved community to distribute breast health education brochures and resource information.  The community has an opportunity to meet survivors\, hear their stories\, and experience their triumph over breast cancer.  Individuals are invited to the event site to enjoy refreshments and visit breast cancer and health related agencies and learn more about the resources and services available in their community.
URL:https://sisterstriangle.org/event/gift-for-life-block-walk-raleigh-2/
LOCATION:Mount Peace Baptist Church\, 1601 Martin Luther King Jr. Blvd.\, Raleigh\, NC\, 27610\, United States
CATEGORIES:Charity,Sisters Network Triangle
ATTACH;FMTTYPE=image/png:https://www.sisterstriangle.org/wp-content/uploads/2019/04/Raleigh_Blockwalk_2019-1.png
ORGANIZER;CN="Sisters Network Triangle NC":MAILTO:trianglenc@sistersnetworkinc.org
END:VEVENT
END:VCALENDAR