BEGIN:VCALENDAR
VERSION:2.0
PRODID:-//sisters network triangle - ECPv6.15.14//NONSGML v1.0//EN
CALSCALE:GREGORIAN
METHOD:PUBLISH
X-ORIGINAL-URL:https://sisterstriangle.org
X-WR-CALDESC:Events for sisters network triangle
REFRESH-INTERVAL;VALUE=DURATION:PT1H
X-Robots-Tag:noindex
X-PUBLISHED-TTL:PT1H
BEGIN:VTIMEZONE
TZID:America/New_York
BEGIN:DAYLIGHT
TZOFFSETFROM:-0500
TZOFFSETTO:-0400
TZNAME:EDT
DTSTART:20230312T070000
END:DAYLIGHT
BEGIN:STANDARD
TZOFFSETFROM:-0400
TZOFFSETTO:-0500
TZNAME:EST
DTSTART:20231105T060000
END:STANDARD
BEGIN:DAYLIGHT
TZOFFSETFROM:-0500
TZOFFSETTO:-0400
TZNAME:EDT
DTSTART:20240310T070000
END:DAYLIGHT
BEGIN:STANDARD
TZOFFSETFROM:-0400
TZOFFSETTO:-0500
TZNAME:EST
DTSTART:20241103T060000
END:STANDARD
BEGIN:DAYLIGHT
TZOFFSETFROM:-0500
TZOFFSETTO:-0400
TZNAME:EDT
DTSTART:20250309T070000
END:DAYLIGHT
BEGIN:STANDARD
TZOFFSETFROM:-0400
TZOFFSETTO:-0500
TZNAME:EST
DTSTART:20251102T060000
END:STANDARD
END:VTIMEZONE
BEGIN:VEVENT
DTSTART;TZID=America/New_York:20240926T180000
DTEND;TZID=America/New_York:20240926T200000
DTSTAMP:20260424T033408
CREATED:20240404T000459Z
LAST-MODIFIED:20240831T183927Z
UID:5134-1727373600-1727380800@sisterstriangle.org
SUMMARY:Sisters Network Triangle NC Support Group Meeting
DESCRIPTION:Sisters Network Triangle NC support group meetings are held monthly. Members please refer to your email for virtual and in-person meeting details. If you are not a Sisters Network Triangle NC member and are interested in joining our support group meeting SUBMIT YOUR REQUEST
URL:https://sisterstriangle.org/event/sisters-network-triangle-nc-support-group-meeting-sep2024/
LOCATION:Henderson Grove Baptist Church\, 2806 Page Rd.\, Morrisville\, NC\, 27560\, United States
CATEGORIES:Sisters Network Triangle
ATTACH;FMTTYPE=image/png:https://sisterstriangle.org/wp-content/uploads/2020/12/sistersLo1go.png
ORGANIZER;CN="Sisters Network Triangle NC":MAILTO:trianglenc@sistersnetworkinc.org
END:VEVENT
BEGIN:VEVENT
DTSTART;TZID=America/New_York:20240928T090000
DTEND;TZID=America/New_York:20240928T140000
DTSTAMP:20260424T033408
CREATED:20240902T201255Z
LAST-MODIFIED:20240915T022732Z
UID:5159-1727514000-1727532000@sisterstriangle.org
SUMMARY:19th Annual Gift for Life Block Walk
DESCRIPTION:We are excited for our 19th Annual Gift for Life Block Walk\, scheduled for Saturday\, September 28\, 2024 from 9am-2pm at Hargraves Community Center\, 216 N. Roberson Street\, Chapel Hill\, NC. As a chapter\, we have been supporting breast cancer survivors in Orange County as part of the “Triangle” area but this will be our first chapter organized event in the Chapel Hill area!\n\nThe Gift For Life Block Walk is our largest annual fundraiser. The funds raised help support our Outreach programs and breast cancer survivors.  There will be community resource vendors\, line dancing\, free refreshments\, The Light 103.9 FM and much more.  
URL:https://sisterstriangle.org/event/19th-annual-gift-for-life-block-walk/
LOCATION:Hargraves Community Center\, 216 N. Roberson St.\, Chapel Hill\, NC\, 27516\, United States
ATTACH;FMTTYPE=image/jpeg:https://sisterstriangle.org/wp-content/uploads/2024/09/BlockWalkFlyer2024.jpg
ORGANIZER;CN="Sisters Network Triangle NC":MAILTO:trianglenc@sistersnetworkinc.org
END:VEVENT
END:VCALENDAR